BEGIN:VCALENDAR
VERSION:2.0
PRODID:-//JD Institute Events - ECPv6.15.16//NONSGML v1.0//EN
CALSCALE:GREGORIAN
METHOD:PUBLISH
X-ORIGINAL-URL:https://events.jediiiandesignfestival.com
X-WR-CALDESC:Events for JD Institute Events
REFRESH-INTERVAL;VALUE=DURATION:PT1H
X-Robots-Tag:noindex
X-PUBLISHED-TTL:PT1H
BEGIN:VTIMEZONE
TZID:Asia/Kolkata
BEGIN:STANDARD
TZOFFSETFROM:+0530
TZOFFSETTO:+0530
TZNAME:IST
DTSTART:20250101T000000
END:STANDARD
END:VTIMEZONE
BEGIN:VEVENT
DTSTART;VALUE=DATE:20260225
DTEND;VALUE=DATE:20260226
DTSTAMP:20260421T210709
CREATED:20260220T094331Z
LAST-MODIFIED:20260224T053801Z
UID:89-1771977600-1772063999@events.jediiiandesignfestival.com
SUMMARY:JD Design Awards 2026 – Theme Unveiling Mumbai
DESCRIPTION:The future of design is about to be revealed. \nJoin us for the biggest design festival in Mumbai where creativity meets innovation. \n📅 24th February\, 2026\n⏰ 10:30 AM Onwards\n📍 PVR\, C&B Square\, Chakala\, Andheri (East)\, Mumbai \n#jddesignawards2026
URL:https://events.jediiiandesignfestival.com/event/jd-design-awards-2026-theme-unveiling-mumbai/
LOCATION:PVR – C&B Square\, C&B Square Mall\, Chakala\, Mumbai\, Maharashtra\, 400093\, India
ATTACH;FMTTYPE=image/png:https://events.jediiiandesignfestival.com/wp-content/uploads/2026/02/ChatGPT-Image-Feb-20-2026-03_53_09-PM.png
ORGANIZER;CN="JD Institute of Fashion Technology":MAILTO:info@events.jediiiandesignfestival.com
END:VEVENT
END:VCALENDAR